BEGIN:VCALENDAR
VERSION:2.0
PRODID:-//Mortgage Broker Training - ECPv5.0.2//NONSGML v1.0//EN
CALSCALE:GREGORIAN
METHOD:PUBLISH
X-WR-CALNAME:Mortgage Broker Training
X-ORIGINAL-URL:https://walkerandmiller.com.au
X-WR-CALDESC:Events for Mortgage Broker Training
BEGIN:VTIMEZONE
TZID:UTC
BEGIN:STANDARD
TZOFFSETFROM:+0000
TZOFFSETTO:+0000
TZNAME:UTC
DTSTART:20200101T000000
END:STANDARD
END:VTIMEZONE
BEGIN:VEVENT
DTSTART;VALUE=DATE:20200326
DTEND;VALUE=DATE:20200328
DTSTAMP:20200301T173125
CREATED:20190605T151327Z
LAST-MODIFIED:20191205T004801Z
UID:1519-1585180800-1585353599@walkerandmiller.com.au
SUMMARY:Diploma (FNS50315) - Sydney Workshop (March)
DESCRIPTION:This is a nationally accredited course\, recognised by the MFAA\, FBAA\, aggregators and lenders\, and offered by Walker and Miller Australia-wide via face-to-face workshops. All of our trainers are experienced mortgage professionals with extensive experience within the Mortgage Broking industry and Financial markets. This means you are getting practical and current industry content\, written by education professionals in conjunction with industry leaders and delivered by experienced finance training professionals. \n
URL:https://walkerandmiller.com.au/course-schedule/diploma-fns50315-sydney-workshop-march/
LOCATION:Sydney Training Facility\, 97 Pacific Highway\, North Sydney\, NSW\, 2060\, Australia
CATEGORIES:Sydney
END:VEVENT
END:VCALENDAR